BEGIN:VCALENDAR
VERSION:2.0
PRODID:-//Fire on McGinnis - ECPv6.15.19//NONSGML v1.0//EN
CALSCALE:GREGORIAN
METHOD:PUBLISH
X-WR-CALNAME:Fire on McGinnis
X-ORIGINAL-URL:https://fireonmcginnis.com
X-WR-CALDESC:Events for Fire on McGinnis
REFRESH-INTERVAL;VALUE=DURATION:PT1H
X-Robots-Tag:noindex
X-PUBLISHED-TTL:PT1H
BEGIN:VTIMEZONE
TZID:UTC
BEGIN:STANDARD
TZOFFSETFROM:+0000
TZOFFSETTO:+0000
TZNAME:UTC
DTSTART:20240101T000000
END:STANDARD
END:VTIMEZONE
BEGIN:VTIMEZONE
TZID:America/Anchorage
BEGIN:DAYLIGHT
TZOFFSETFROM:-0900
TZOFFSETTO:-0800
TZNAME:AKDT
DTSTART:20250309T110000
END:DAYLIGHT
BEGIN:STANDARD
TZOFFSETFROM:-0800
TZOFFSETTO:-0900
TZNAME:AKST
DTSTART:20251102T100000
END:STANDARD
BEGIN:DAYLIGHT
TZOFFSETFROM:-0900
TZOFFSETTO:-0800
TZNAME:AKDT
DTSTART:20260308T110000
END:DAYLIGHT
BEGIN:STANDARD
TZOFFSETFROM:-0800
TZOFFSETTO:-0900
TZNAME:AKST
DTSTART:20261101T100000
END:STANDARD
BEGIN:DAYLIGHT
TZOFFSETFROM:-0900
TZOFFSETTO:-0800
TZNAME:AKDT
DTSTART:20270314T110000
END:DAYLIGHT
BEGIN:STANDARD
TZOFFSETFROM:-0800
TZOFFSETTO:-0900
TZNAME:AKST
DTSTART:20271107T100000
END:STANDARD
END:VTIMEZONE
BEGIN:VEVENT
DTSTART;TZID=UTC:20250315T200000
DTEND;TZID=UTC:20250315T210000
DTSTAMP:20260419T170909
CREATED:20260126T180311Z
LAST-MODIFIED:20260310T035115Z
UID:395-1742068800-1742072400@fireonmcginnis.com
SUMMARY:Fire on McGinnis
DESCRIPTION:Join us for our first ever show at the Crystal Saloon! Doors open at 7 pm\, show at 8.
URL:https://fireonmcginnis.com/event/fire-on-mcginnis-14/
LOCATION:The Crystal Saloon\, 218 Front Street\, Juneau\, The Crystal Saloon\, 218 Front Street\, Juneau\, AK\, United States
ATTACH;FMTTYPE=image/png:https://fireonmcginnis.com/wp-content/uploads/2026/01/fire_on_mcginnis_mermaid_beer_coaster.png
END:VEVENT
BEGIN:VEVENT
DTSTART;TZID=UTC:20250404T200000
DTEND;TZID=UTC:20250404T220000
DTSTAMP:20260419T170909
CREATED:20260119T160416Z
LAST-MODIFIED:20260310T034947Z
UID:139-1743796800-1743804000@fireonmcginnis.com
SUMMARY:Fire on McGinnis
DESCRIPTION:We are excited to play the Red Dog Saloon on April 4th 2025. Doors at 7:00 show at 8:00. No cover. Check back here for food and drink specials -FOM \n 
URL:https://fireonmcginnis.com/event/fire-on-mcginnis/
LOCATION:Red Dog Saloon\, 278 S. Franklin Street\, Juneau\, AK\, United States
ATTACH;FMTTYPE=image/png:https://fireonmcginnis.com/wp-content/uploads/2026/01/fire_on_mcginnis_mermaid_logo.png
END:VEVENT
BEGIN:VEVENT
DTSTART;TZID=America/Anchorage:20260314T200000
DTEND;TZID=America/Anchorage:20260314T230000
DTSTAMP:20260419T170909
CREATED:20260217T190910Z
LAST-MODIFIED:20260218T054729Z
UID:524-1773518400-1773529200@fireonmcginnis.com
SUMMARY:Red Dog Saloon Show - 2026!
DESCRIPTION:It’s true. We are celebrating St. Patrick’s Day a little early this year. Fire on McGinnis will be performing at the Red Dog Saloon on March 14th 2026. Check back here for more information on drink and food specials! \nfire on McGinnis poster
URL:https://fireonmcginnis.com/event/red-dog-saloon-show-2026/
LOCATION:Red Dog Saloon\, 278 S. Franklin Street\, Juneau\, AK\, United States
ATTACH;FMTTYPE=image/png:https://fireonmcginnis.com/wp-content/uploads/2026/02/fire_on_mcginnis_red_dog_saloon_march_14th_2026.png
END:VEVENT
END:VCALENDAR